BEGIN:VCALENDAR
VERSION:2.0
PRODID:-//The Life Raft Group - ECPv6.15.20//NONSGML v1.0//EN
CALSCALE:GREGORIAN
METHOD:PUBLISH
X-WR-CALNAME:The Life Raft Group
X-ORIGINAL-URL:https://liferaftgroup.org
X-WR-CALDESC:Events for The Life Raft Group
REFRESH-INTERVAL;VALUE=DURATION:PT1H
X-Robots-Tag:noindex
X-PUBLISHED-TTL:PT1H
BEGIN:VTIMEZONE
TZID:America/New_York
BEGIN:DAYLIGHT
TZOFFSETFROM:-0500
TZOFFSETTO:-0400
TZNAME:EDT
DTSTART:20250309T070000
END:DAYLIGHT
BEGIN:STANDARD
TZOFFSETFROM:-0400
TZOFFSETTO:-0500
TZNAME:EST
DTSTART:20251102T060000
END:STANDARD
BEGIN:DAYLIGHT
TZOFFSETFROM:-0500
TZOFFSETTO:-0400
TZNAME:EDT
DTSTART:20260308T070000
END:DAYLIGHT
BEGIN:STANDARD
TZOFFSETFROM:-0400
TZOFFSETTO:-0500
TZNAME:EST
DTSTART:20261101T060000
END:STANDARD
BEGIN:DAYLIGHT
TZOFFSETFROM:-0500
TZOFFSETTO:-0400
TZNAME:EDT
DTSTART:20270314T070000
END:DAYLIGHT
BEGIN:STANDARD
TZOFFSETFROM:-0400
TZOFFSETTO:-0500
TZNAME:EST
DTSTART:20271107T060000
END:STANDARD
END:VTIMEZONE
BEGIN:VEVENT
DTSTART;TZID=America/New_York:20260421T150000
DTEND;TZID=America/New_York:20260421T150000
DTSTAMP:20260421T052228
CREATED:20250710T225236Z
LAST-MODIFIED:20260226T154752Z
UID:10000839-1776783600-1776783600@liferaftgroup.org
SUMMARY:SDH Support Group
DESCRIPTION:We are excited to announce the launch of a dedicated Support Group for SDH-GIST patients\, created to offer a welcoming space for connection\, understanding\, and shared experience. Whether you’re newly diagnosed or have been managing SDH for years\, this group is here to support you. Together\, we will share our stories and knowledge\, discuss challenges\, celebrate progress\, and offer encouragement to one another in a safe\, respectful environment. \nWhat to Expect: \n\nRegular virtual meetings\nPeer support and open discussion\nGuest speakers and educational sessions\nOpportunities to ask questions and share your story\n\nThis group will meet the 3rd Tuesdays of the month. Space is limited as we aim to keep the support groups small to allow for sharing & discussion.  If interested in the group\, please contact Becky Owens at bowens@liferaftgroup.org. A registration link will be sent to those who express interest. You are not alone\, and we hope this group becomes a meaningful part of your life.
URL:https://liferaftgroup.org/event/sdh-support-group/2026-04-21/
CATEGORIES:Events,Support Group
ATTACH;FMTTYPE=image/png:https://liferaftgroup.org/wp-content/uploads/2025/07/SDH-Support-Group-Event-Banner.png
ORGANIZER;CN="Becky Owens":MAILTO:bowens@liferaftgroup.org
END:VEVENT
BEGIN:VEVENT
DTSTART;TZID=America/New_York:20260421T180000
DTEND;TZID=America/New_York:20260421T193000
DTSTAMP:20260421T052228
CREATED:20230727T134306Z
LAST-MODIFIED:20260105T170322Z
UID:10000733-1776794400-1776799800@liferaftgroup.org
SUMMARY:Virtual GIST Patient Support Group
DESCRIPTION:The Patient Support Group meets via Zoom on the first and third Tuesday of each month from 6:00 PM – 7:30 PM ET (NYC Time). \nWe will start each group with a “Round Robin” in which anyone who feels like updating the group on how they are doing/feeling can do so. There is no pressure to speak if you prefer to simply listen. Once we complete our updates\, the group will have the opportunity for organic conversation to develop in relation to our emotional experiences around GIST\, and other challenges that we may be experiencing as a community. \nIn order to be able to moderate a flowing discussion\, the group will be capped at 15 people each month. The first 15 people into the Zoom waiting room will participate. Keep in mind that since the group is now open\, you don’t necessarily have to attend each month to participate. \nContact Brian Morello to join: bmorello@liferaftgroup.org
URL:https://liferaftgroup.org/event/virtual-gist-patient-support-group-third/2026-04-21/
CATEGORIES:Support Group
ATTACH;FMTTYPE=image/png:https://liferaftgroup.org/wp-content/uploads/2021/01/GISTer-Support-Group-2022-1.png
ORGANIZER;CN="Brian Morello":MAILTO:bmorello@liferaftgroup.org
END:VEVENT
END:VCALENDAR