BEGIN:VCALENDAR
VERSION:2.0
PRODID:-//The Life Raft Group - ECPv6.15.20//NONSGML v1.0//EN
CALSCALE:GREGORIAN
METHOD:PUBLISH
X-WR-CALNAME:The Life Raft Group
X-ORIGINAL-URL:https://liferaftgroup.org
X-WR-CALDESC:Events for The Life Raft Group
REFRESH-INTERVAL;VALUE=DURATION:PT1H
X-Robots-Tag:noindex
X-PUBLISHED-TTL:PT1H
BEGIN:VTIMEZONE
TZID:America/New_York
BEGIN:DAYLIGHT
TZOFFSETFROM:-0500
TZOFFSETTO:-0400
TZNAME:EDT
DTSTART:20240310T070000
END:DAYLIGHT
BEGIN:STANDARD
TZOFFSETFROM:-0400
TZOFFSETTO:-0500
TZNAME:EST
DTSTART:20241103T060000
END:STANDARD
BEGIN:DAYLIGHT
TZOFFSETFROM:-0500
TZOFFSETTO:-0400
TZNAME:EDT
DTSTART:20250309T070000
END:DAYLIGHT
BEGIN:STANDARD
TZOFFSETFROM:-0400
TZOFFSETTO:-0500
TZNAME:EST
DTSTART:20251102T060000
END:STANDARD
BEGIN:DAYLIGHT
TZOFFSETFROM:-0500
TZOFFSETTO:-0400
TZNAME:EDT
DTSTART:20260308T070000
END:DAYLIGHT
BEGIN:STANDARD
TZOFFSETFROM:-0400
TZOFFSETTO:-0500
TZNAME:EST
DTSTART:20261101T060000
END:STANDARD
END:VTIMEZONE
BEGIN:VTIMEZONE
TZID:America/Chicago
BEGIN:DAYLIGHT
TZOFFSETFROM:-0600
TZOFFSETTO:-0500
TZNAME:CDT
DTSTART:20240310T080000
END:DAYLIGHT
BEGIN:STANDARD
TZOFFSETFROM:-0500
TZOFFSETTO:-0600
TZNAME:CST
DTSTART:20241103T070000
END:STANDARD
BEGIN:DAYLIGHT
TZOFFSETFROM:-0600
TZOFFSETTO:-0500
TZNAME:CDT
DTSTART:20250309T080000
END:DAYLIGHT
BEGIN:STANDARD
TZOFFSETFROM:-0500
TZOFFSETTO:-0600
TZNAME:CST
DTSTART:20251102T070000
END:STANDARD
BEGIN:DAYLIGHT
TZOFFSETFROM:-0600
TZOFFSETTO:-0500
TZNAME:CDT
DTSTART:20260308T080000
END:DAYLIGHT
BEGIN:STANDARD
TZOFFSETFROM:-0500
TZOFFSETTO:-0600
TZNAME:CST
DTSTART:20261101T070000
END:STANDARD
END:VTIMEZONE
BEGIN:VEVENT
DTSTART;TZID=America/New_York:20250903T130000
DTEND;TZID=America/New_York:20250903T140000
DTSTAMP:20260421T052620
CREATED:20240528T163612Z
LAST-MODIFIED:20260226T163718Z
UID:10001095-1756904400-1756908000@liferaftgroup.org
SUMMARY:Virtual GIST Caregiver Support Group
DESCRIPTION:Monthly Virtual Support Group for GIST Caregivers\nHeld on the first Wednesday of the month \nLRG hosts a monthly virtual support group for the caregivers. We will share our stories\, if you are comfortable\, and speak freely about the new fears and anxieties we might be feeling during this journey as a caregiver. The group will be a safe space not only to feel supported by your fellow caregivers\, but also a place to share our own coping mechanisms\, concerns\, successes and trials. All information shared will be kept confidential. \nContact Rachel LoCurto at rlocurto@liferaftgroup.org for more information and to join this meeting. \nAbout the Group Leader:\nMarlene Nei\, GIST Caregiver\nAs an active member of The Life Raft Group\, Marlene advocates for the needs of the caregiver community because she feels they are an underrepresented group. It is her mission to advocate for the entire GIST community making sure they are equipped with the appropriate resources on their GIST journey.
URL:https://liferaftgroup.org/event/virtual-gist-caregiver-support-group-2023-2/2025-09-03/
CATEGORIES:Support Group
ATTACH;FMTTYPE=image/jpeg:https://liferaftgroup.org/wp-content/uploads/2023/05/caregiver-sg-2023.jpg
ORGANIZER;CN="Rachel LoCurto":MAILTO:rlocurto@liferaftgroup.org
END:VEVENT
BEGIN:VEVENT
DTSTART;TZID=America/New_York:20250908T180000
DTEND;TZID=America/New_York:20250908T180000
DTSTAMP:20260421T052620
CREATED:20240528T163645Z
LAST-MODIFIED:20260226T165312Z
UID:10001249-1757354400-1757354400@liferaftgroup.org
SUMMARY:Virtual Florida Support Group
DESCRIPTION:Florida Support Group\nZoom\, 2nd Monday of the Month – 6pm ET\nOur moderator is a fellow GISTER/LRG Member from Florida diagnosed with GIST in late 2016.\nIf you wish to attend\, please email Rachel LoCurto: rlocurto@liferaftgroup.org for the Zoom link for the meeting.
URL:https://liferaftgroup.org/event/virtual-florida-support-group-2-2-2/2025-09-08/
CATEGORIES:Support Group
ATTACH;FMTTYPE=image/jpeg:https://liferaftgroup.org/wp-content/uploads/2022/09/florida-support-group.jpg
ORGANIZER;CN="Rachel LoCurto":MAILTO:rlocurto@liferaftgroup.org
END:VEVENT
BEGIN:VEVENT
DTSTART;TZID=America/New_York:20250913T080000
DTEND;TZID=America/New_York:20250913T080000
DTSTAMP:20260421T052620
CREATED:20250310T193818Z
LAST-MODIFIED:20250905T005807Z
UID:10000813-1757750400-1757750400@liferaftgroup.org
SUMMARY:GDOL Los Angeles
DESCRIPTION:GDOL Los Angeles will take place in-person on September 13th at UCLA Health. \nREGISTERClick for PDF Agenda\n\n \nWhat is a GDOL? \nA GDOL is a GIST Day of Learning. This is a free one day event to help patients and caregivers learn more about this rare cancer\, find support\, and enhance their knowledge base to help them navigate their cancer journey. \nThe Life Raft Group is committed to enhancing the survival and quality of life for people living with Gastrointestinal Stromal Tumor (GIST)\, and other rare diseases\, through patient-powered research\, education and empowerment\, and global advocacy efforts. Our vision is to empower a future fueled by data\, guiding our journey toward cures for rare diseases. \nIf you have any questions\, please contact Brian Morello at bmorello@liferaftgroup.org
URL:https://liferaftgroup.org/event/gdol-los-angeles/
CATEGORIES:Education,Events
ORGANIZER;CN="Brian Morello":MAILTO:bmorello@liferaftgroup.org
END:VEVENT
BEGIN:VEVENT
DTSTART;TZID=America/New_York:20250916T150000
DTEND;TZID=America/New_York:20250916T150000
DTSTAMP:20260421T052620
CREATED:20250710T225236Z
LAST-MODIFIED:20260226T154752Z
UID:10000832-1758034800-1758034800@liferaftgroup.org
SUMMARY:SDH Support Group
DESCRIPTION:We are excited to announce the launch of a dedicated Support Group for SDH-GIST patients\, created to offer a welcoming space for connection\, understanding\, and shared experience. Whether you’re newly diagnosed or have been managing SDH for years\, this group is here to support you. Together\, we will share our stories and knowledge\, discuss challenges\, celebrate progress\, and offer encouragement to one another in a safe\, respectful environment. \nWhat to Expect: \n\nRegular virtual meetings\nPeer support and open discussion\nGuest speakers and educational sessions\nOpportunities to ask questions and share your story\n\nThis group will meet the 3rd Tuesdays of the month. Space is limited as we aim to keep the support groups small to allow for sharing & discussion.  If interested in the group\, please contact Becky Owens at bowens@liferaftgroup.org. A registration link will be sent to those who express interest. You are not alone\, and we hope this group becomes a meaningful part of your life.
URL:https://liferaftgroup.org/event/sdh-support-group/2025-09-16/
CATEGORIES:Events,Support Group
ATTACH;FMTTYPE=image/png:https://liferaftgroup.org/wp-content/uploads/2025/07/SDH-Support-Group-Event-Banner.png
ORGANIZER;CN="Becky Owens":MAILTO:bowens@liferaftgroup.org
END:VEVENT
BEGIN:VEVENT
DTSTART;TZID=America/New_York:20250916T180000
DTEND;TZID=America/New_York:20250916T193000
DTSTAMP:20260421T052620
CREATED:20230727T134306Z
LAST-MODIFIED:20260105T170322Z
UID:10000726-1758045600-1758051000@liferaftgroup.org
SUMMARY:Virtual GIST Patient Support Group
DESCRIPTION:The Patient Support Group meets via Zoom on the first and third Tuesday of each month from 6:00 PM – 7:30 PM ET (NYC Time). \nWe will start each group with a “Round Robin” in which anyone who feels like updating the group on how they are doing/feeling can do so. There is no pressure to speak if you prefer to simply listen. Once we complete our updates\, the group will have the opportunity for organic conversation to develop in relation to our emotional experiences around GIST\, and other challenges that we may be experiencing as a community. \nIn order to be able to moderate a flowing discussion\, the group will be capped at 15 people each month. The first 15 people into the Zoom waiting room will participate. Keep in mind that since the group is now open\, you don’t necessarily have to attend each month to participate. \nContact Brian Morello to join: bmorello@liferaftgroup.org
URL:https://liferaftgroup.org/event/virtual-gist-patient-support-group-third/2025-09-16/
CATEGORIES:Support Group
ATTACH;FMTTYPE=image/png:https://liferaftgroup.org/wp-content/uploads/2021/01/GISTer-Support-Group-2022-1.png
ORGANIZER;CN="Brian Morello":MAILTO:bmorello@liferaftgroup.org
END:VEVENT
BEGIN:VEVENT
DTSTART;TZID=America/Chicago:20250922T180000
DTEND;TZID=America/Chicago:20250922T180000
DTSTAMP:20260421T052620
CREATED:20240823T175323Z
LAST-MODIFIED:20260226T163049Z
UID:10000860-1758564000-1758564000@liferaftgroup.org
SUMMARY:Virtual Texas Support Group
DESCRIPTION:Texas Support Group Zoom meeting on the 4th Monday of the month @ 6PM Central Time. Jackie Vanderpol will host this zoom meeting. Contact Rachel LoCurto at rlocurto@liferaftgroup.org with any questions or to get the Zoom link.
URL:https://liferaftgroup.org/event/virtual-texas-support-group/2025-09-22/
CATEGORIES:Events,Support Group
ATTACH;FMTTYPE=image/jpeg:https://liferaftgroup.org/wp-content/uploads/2024/08/texas-support-group.jpg
ORGANIZER;CN="Rachel LoCurto":MAILTO:rlocurto@liferaftgroup.org
END:VEVENT
BEGIN:VEVENT
DTSTART;TZID=America/New_York:20250927T080000
DTEND;TZID=America/New_York:20250927T080000
DTSTAMP:20260421T052620
CREATED:20250310T203711Z
LAST-MODIFIED:20250925T145704Z
UID:10000814-1758960000-1758960000@liferaftgroup.org
SUMMARY:GDOL Boston
DESCRIPTION:GDOL Boston will take place in-person on September 27th at the Dana-Farber Cancer Institute. \nREGISTERClick for PDF Agenda\n \nWhat is a GDOL? \nA GDOL is a GIST Day of Learning. This is a free one day event to help patients and caregivers learn more about this rare cancer\, find support\, and enhance their knowledge base to help them navigate their cancer journey. \nThe Life Raft Group is committed to enhancing the survival and quality of life for people living with Gastrointestinal Stromal Tumor (GIST)\, and other rare diseases\, through patient-powered research\, education and empowerment\, and global advocacy efforts. Our vision is to empower a future fueled by data\, guiding our journey toward cures for rare diseases. \nIf you have any questions\, please contact Brian Morello at bmorello@liferaftgroup.org
URL:https://liferaftgroup.org/event/gdol-boston/
CATEGORIES:Education,Events
ORGANIZER;CN="Brian Morello":MAILTO:bmorello@liferaftgroup.org
END:VEVENT
END:VCALENDAR