BEGIN:VCALENDAR
VERSION:2.0
PRODID:-//The Life Raft Group - ECPv6.15.20//NONSGML v1.0//EN
CALSCALE:GREGORIAN
METHOD:PUBLISH
X-ORIGINAL-URL:https://liferaftgroup.org
X-WR-CALDESC:Events for The Life Raft Group
REFRESH-INTERVAL;VALUE=DURATION:PT1H
X-Robots-Tag:noindex
X-PUBLISHED-TTL:PT1H
BEGIN:VTIMEZONE
TZID:America/New_York
BEGIN:DAYLIGHT
TZOFFSETFROM:-0500
TZOFFSETTO:-0400
TZNAME:EDT
DTSTART:20180311T070000
END:DAYLIGHT
BEGIN:STANDARD
TZOFFSETFROM:-0400
TZOFFSETTO:-0500
TZNAME:EST
DTSTART:20181104T060000
END:STANDARD
BEGIN:DAYLIGHT
TZOFFSETFROM:-0500
TZOFFSETTO:-0400
TZNAME:EDT
DTSTART:20190310T070000
END:DAYLIGHT
BEGIN:STANDARD
TZOFFSETFROM:-0400
TZOFFSETTO:-0500
TZNAME:EST
DTSTART:20191103T060000
END:STANDARD
BEGIN:DAYLIGHT
TZOFFSETFROM:-0500
TZOFFSETTO:-0400
TZNAME:EDT
DTSTART:20200308T070000
END:DAYLIGHT
BEGIN:STANDARD
TZOFFSETFROM:-0400
TZOFFSETTO:-0500
TZNAME:EST
DTSTART:20201101T060000
END:STANDARD
END:VTIMEZONE
BEGIN:VEVENT
DTSTART;TZID=America/New_York:20190508T130000
DTEND;TZID=America/New_York:20190508T130000
DTSTAMP:20260419T155409
CREATED:20190423T160916Z
LAST-MODIFIED:20190423T161403Z
UID:10000004-1557320400-1557320400@liferaftgroup.org
SUMMARY:Ask the Experts LIVE
DESCRIPTION:Want to know more about GIST?\nDo you have some burning questions to ask GIST experts?\n\nMembers of the LRG GIST Global Expert Surveillance Team\nwill be at the LRG offices on May 8th at 1:00 pm ET for an\nAsk the Experts LIVE event to be broadcast on YouTube Live.\n\n\n\n \nDr. Gary Schwartz\nColumbia University Irving Medical Center \n\nDr. Jason Sicklick\nMoores Cancer Center\, University of California\, San Diego\n\n\nDr. Jonathan Trent\nSylvester Comprehensive Cancer Center \n\nRegister\n\n\n\n\nWe welcome you to submit your questions ahead of time.\nQuestions can be emailed to Sara Rothschild at srothschild@liferaftgroup.org.\nViewers can also ask questions live during the event.\n\n\nDisclaimer:\nWe cannot provide individual medical advice during this live event. Information provided is not intended as a substitute for your physician’s guidance and care.
URL:https://liferaftgroup.org/event/ask-the-experts-live/
LOCATION:You Tube Live
CATEGORIES:Education,Events
ATTACH;FMTTYPE=image/jpeg:https://liferaftgroup.org/wp-content/uploads/2019/04/ask-the-experts-live-eventpg.jpg
ORGANIZER;CN="Sara Rothschild":MAILTO:srothschild@liferaftgroup.org
END:VEVENT
END:VCALENDAR