BEGIN:VCALENDAR
VERSION:2.0
PRODID:-//The Life Raft Group - ECPv6.15.20//NONSGML v1.0//EN
CALSCALE:GREGORIAN
METHOD:PUBLISH
X-ORIGINAL-URL:https://liferaftgroup.org
X-WR-CALDESC:Events for The Life Raft Group
REFRESH-INTERVAL;VALUE=DURATION:PT1H
X-Robots-Tag:noindex
X-PUBLISHED-TTL:PT1H
BEGIN:VTIMEZONE
TZID:America/New_York
BEGIN:DAYLIGHT
TZOFFSETFROM:-0500
TZOFFSETTO:-0400
TZNAME:EDT
DTSTART:20210314T070000
END:DAYLIGHT
BEGIN:STANDARD
TZOFFSETFROM:-0400
TZOFFSETTO:-0500
TZNAME:EST
DTSTART:20211107T060000
END:STANDARD
BEGIN:DAYLIGHT
TZOFFSETFROM:-0500
TZOFFSETTO:-0400
TZNAME:EDT
DTSTART:20220313T070000
END:DAYLIGHT
BEGIN:STANDARD
TZOFFSETFROM:-0400
TZOFFSETTO:-0500
TZNAME:EST
DTSTART:20221106T060000
END:STANDARD
BEGIN:DAYLIGHT
TZOFFSETFROM:-0500
TZOFFSETTO:-0400
TZNAME:EDT
DTSTART:20230312T070000
END:DAYLIGHT
BEGIN:STANDARD
TZOFFSETFROM:-0400
TZOFFSETTO:-0500
TZNAME:EST
DTSTART:20231105T060000
END:STANDARD
END:VTIMEZONE
BEGIN:VEVENT
DTSTART;TZID=America/New_York:20221012T120000
DTEND;TZID=America/New_York:20221012T120000
DTSTAMP:20260419T110756
CREATED:20220913T233534Z
LAST-MODIFIED:20220926T132350Z
UID:10000245-1665576000-1665576000@liferaftgroup.org
SUMMARY:The Emerging Role of Circulating Tumor DNA in GIST
DESCRIPTION:October 12\, Noon ET \nIn this webinar\, “The Emerging Role of Circulating Tumor DNA in Gastrointestinal Stromal Tumor”\, Dr. Bialick will discuss recent data looking at treatment outcomes based off KIT resistant mutations identified by circulating tumor DNA in patients with GIST. \nREGISTEROur Presenter\nSteven Bialick\, DO\nSylvester Comprehensive Cancer Center\, Miami \nSteve Bialick\, DO\, is a  hematology/oncology fellow at Jackson Memorial Hospital and the University of Miami/Sylvester Comprehensive Cancer Center in Miami\, FL.  He completed his internal medicine residency within the University of Pennsylvania Health System before working as a hematologic malignancy hospitalist at the Hospital of the University of Pennsylvania in Philadelphia\, PA.  He is now completing his oncology training with a focus on solid tumor malignancies\, specifically soft tissue and bone sarcomas.  His research interests include hereditary cancer predisposition syndromes\, circulating tumor DNA and its role in guiding targeted therapies\, and the role of DNA damage repair pathways in sarcomas. \nThank you to our Sponsors:
URL:https://liferaftgroup.org/event/the-emerging-role-of-circulating-tumor-dna-in-gist/
CATEGORIES:Education,Events
ORGANIZER;CN="Sara Rothschild":MAILTO:srothschild@liferaftgroup.org
END:VEVENT
END:VCALENDAR