BEGIN:VCALENDAR
VERSION:2.0
PRODID:-//The Life Raft Group - ECPv6.15.20//NONSGML v1.0//EN
CALSCALE:GREGORIAN
METHOD:PUBLISH
X-WR-CALNAME:The Life Raft Group
X-ORIGINAL-URL:https://liferaftgroup.org
X-WR-CALDESC:Events for The Life Raft Group
REFRESH-INTERVAL;VALUE=DURATION:PT1H
X-Robots-Tag:noindex
X-PUBLISHED-TTL:PT1H
BEGIN:VTIMEZONE
TZID:America/New_York
BEGIN:DAYLIGHT
TZOFFSETFROM:-0500
TZOFFSETTO:-0400
TZNAME:EDT
DTSTART:20270314T070000
END:DAYLIGHT
BEGIN:STANDARD
TZOFFSETFROM:-0400
TZOFFSETTO:-0500
TZNAME:EST
DTSTART:20271107T060000
END:STANDARD
BEGIN:DAYLIGHT
TZOFFSETFROM:-0500
TZOFFSETTO:-0400
TZNAME:EDT
DTSTART:20280312T070000
END:DAYLIGHT
BEGIN:STANDARD
TZOFFSETFROM:-0400
TZOFFSETTO:-0500
TZNAME:EST
DTSTART:20281105T060000
END:STANDARD
BEGIN:DAYLIGHT
TZOFFSETFROM:-0500
TZOFFSETTO:-0400
TZNAME:EDT
DTSTART:20290311T070000
END:DAYLIGHT
BEGIN:STANDARD
TZOFFSETFROM:-0400
TZOFFSETTO:-0500
TZNAME:EST
DTSTART:20291104T060000
END:STANDARD
BEGIN:DAYLIGHT
TZOFFSETFROM:-0500
TZOFFSETTO:-0400
TZNAME:EDT
DTSTART:20300310T070000
END:DAYLIGHT
BEGIN:STANDARD
TZOFFSETFROM:-0400
TZOFFSETTO:-0500
TZNAME:EST
DTSTART:20301103T060000
END:STANDARD
BEGIN:DAYLIGHT
TZOFFSETFROM:-0500
TZOFFSETTO:-0400
TZNAME:EDT
DTSTART:20310309T070000
END:DAYLIGHT
BEGIN:STANDARD
TZOFFSETFROM:-0400
TZOFFSETTO:-0500
TZNAME:EST
DTSTART:20311102T060000
END:STANDARD
BEGIN:DAYLIGHT
TZOFFSETFROM:-0500
TZOFFSETTO:-0400
TZNAME:EDT
DTSTART:20320314T070000
END:DAYLIGHT
BEGIN:STANDARD
TZOFFSETFROM:-0400
TZOFFSETTO:-0500
TZNAME:EST
DTSTART:20321107T060000
END:STANDARD
END:VTIMEZONE
BEGIN:VEVENT
DTSTART;TZID=America/New_York:20280425T140000
DTEND;TZID=America/New_York:20280425T140000
DTSTAMP:20260419T110336
CREATED:20260226T181800Z
LAST-MODIFIED:20260226T183012Z
UID:10001620-1840284000-1840284000@liferaftgroup.org
SUMMARY:Virtual North Carolina Patient Support Group
DESCRIPTION:North Carolina Patient Support Group \nZoom\, Last Tuesday of the Month – 2pm ET\nFebruary\, April\, June\, August\, October\, December \n \nIf you wish to attend\, please email Rachel LoCurto: rlocurto@liferaftgroup.org for the Zoom link for the meeting.
URL:https://liferaftgroup.org/event/north-carolina-support-group/2028-04-25/
CATEGORIES:Support Group
ATTACH;FMTTYPE=image/png:https://liferaftgroup.org/wp-content/uploads/2026/02/NC-Support-Group-Banner.png
END:VEVENT
BEGIN:VEVENT
DTSTART;TZID=America/New_York:20280627T140000
DTEND;TZID=America/New_York:20280627T140000
DTSTAMP:20260419T110339
CREATED:20260226T181800Z
LAST-MODIFIED:20260226T183012Z
UID:10001621-1845727200-1845727200@liferaftgroup.org
SUMMARY:Virtual North Carolina Patient Support Group
DESCRIPTION:North Carolina Patient Support Group \nZoom\, Last Tuesday of the Month – 2pm ET\nFebruary\, April\, June\, August\, October\, December \n \nIf you wish to attend\, please email Rachel LoCurto: rlocurto@liferaftgroup.org for the Zoom link for the meeting.
URL:https://liferaftgroup.org/event/north-carolina-support-group/2028-06-27/
CATEGORIES:Support Group
ATTACH;FMTTYPE=image/png:https://liferaftgroup.org/wp-content/uploads/2026/02/NC-Support-Group-Banner.png
END:VEVENT
BEGIN:VEVENT
DTSTART;TZID=America/New_York:20280829T140000
DTEND;TZID=America/New_York:20280829T140000
DTSTAMP:20260419T110339
CREATED:20260226T181800Z
LAST-MODIFIED:20260226T183012Z
UID:10001622-1851170400-1851170400@liferaftgroup.org
SUMMARY:Virtual North Carolina Patient Support Group
DESCRIPTION:North Carolina Patient Support Group \nZoom\, Last Tuesday of the Month – 2pm ET\nFebruary\, April\, June\, August\, October\, December \n \nIf you wish to attend\, please email Rachel LoCurto: rlocurto@liferaftgroup.org for the Zoom link for the meeting.
URL:https://liferaftgroup.org/event/north-carolina-support-group/2028-08-29/
CATEGORIES:Support Group
ATTACH;FMTTYPE=image/png:https://liferaftgroup.org/wp-content/uploads/2026/02/NC-Support-Group-Banner.png
END:VEVENT
BEGIN:VEVENT
DTSTART;TZID=America/New_York:20281031T140000
DTEND;TZID=America/New_York:20281031T140000
DTSTAMP:20260419T110339
CREATED:20260226T181800Z
LAST-MODIFIED:20260226T183012Z
UID:10001623-1856613600-1856613600@liferaftgroup.org
SUMMARY:Virtual North Carolina Patient Support Group
DESCRIPTION:North Carolina Patient Support Group \nZoom\, Last Tuesday of the Month – 2pm ET\nFebruary\, April\, June\, August\, October\, December \n \nIf you wish to attend\, please email Rachel LoCurto: rlocurto@liferaftgroup.org for the Zoom link for the meeting.
URL:https://liferaftgroup.org/event/north-carolina-support-group/2028-10-31/
CATEGORIES:Support Group
ATTACH;FMTTYPE=image/png:https://liferaftgroup.org/wp-content/uploads/2026/02/NC-Support-Group-Banner.png
END:VEVENT
BEGIN:VEVENT
DTSTART;TZID=America/New_York:20281226T140000
DTEND;TZID=America/New_York:20281226T140000
DTSTAMP:20260419T110339
CREATED:20260226T181800Z
LAST-MODIFIED:20260226T183012Z
UID:10001624-1861452000-1861452000@liferaftgroup.org
SUMMARY:Virtual North Carolina Patient Support Group
DESCRIPTION:North Carolina Patient Support Group \nZoom\, Last Tuesday of the Month – 2pm ET\nFebruary\, April\, June\, August\, October\, December \n \nIf you wish to attend\, please email Rachel LoCurto: rlocurto@liferaftgroup.org for the Zoom link for the meeting.
URL:https://liferaftgroup.org/event/north-carolina-support-group/2028-12-26/
CATEGORIES:Support Group
ATTACH;FMTTYPE=image/png:https://liferaftgroup.org/wp-content/uploads/2026/02/NC-Support-Group-Banner.png
END:VEVENT
BEGIN:VEVENT
DTSTART;TZID=America/New_York:20290227T140000
DTEND;TZID=America/New_York:20290227T140000
DTSTAMP:20260419T110339
CREATED:20260226T181800Z
LAST-MODIFIED:20260226T183012Z
UID:10001625-1866895200-1866895200@liferaftgroup.org
SUMMARY:Virtual North Carolina Patient Support Group
DESCRIPTION:North Carolina Patient Support Group \nZoom\, Last Tuesday of the Month – 2pm ET\nFebruary\, April\, June\, August\, October\, December \n \nIf you wish to attend\, please email Rachel LoCurto: rlocurto@liferaftgroup.org for the Zoom link for the meeting.
URL:https://liferaftgroup.org/event/north-carolina-support-group/2029-02-27/
CATEGORIES:Support Group
ATTACH;FMTTYPE=image/png:https://liferaftgroup.org/wp-content/uploads/2026/02/NC-Support-Group-Banner.png
END:VEVENT
BEGIN:VEVENT
DTSTART;TZID=America/New_York:20290424T140000
DTEND;TZID=America/New_York:20290424T140000
DTSTAMP:20260419T110339
CREATED:20260226T181800Z
LAST-MODIFIED:20260226T183012Z
UID:10001585-1871733600-1871733600@liferaftgroup.org
SUMMARY:Virtual North Carolina Patient Support Group
DESCRIPTION:North Carolina Patient Support Group \nZoom\, Last Tuesday of the Month – 2pm ET\nFebruary\, April\, June\, August\, October\, December \n \nIf you wish to attend\, please email Rachel LoCurto: rlocurto@liferaftgroup.org for the Zoom link for the meeting.
URL:https://liferaftgroup.org/event/north-carolina-support-group/2029-04-24/
CATEGORIES:Support Group
ATTACH;FMTTYPE=image/png:https://liferaftgroup.org/wp-content/uploads/2026/02/NC-Support-Group-Banner.png
END:VEVENT
BEGIN:VEVENT
DTSTART;TZID=America/New_York:20290626T140000
DTEND;TZID=America/New_York:20290626T140000
DTSTAMP:20260419T110339
CREATED:20260226T181800Z
LAST-MODIFIED:20260226T183012Z
UID:10001626-1877176800-1877176800@liferaftgroup.org
SUMMARY:Virtual North Carolina Patient Support Group
DESCRIPTION:North Carolina Patient Support Group \nZoom\, Last Tuesday of the Month – 2pm ET\nFebruary\, April\, June\, August\, October\, December \n \nIf you wish to attend\, please email Rachel LoCurto: rlocurto@liferaftgroup.org for the Zoom link for the meeting.
URL:https://liferaftgroup.org/event/north-carolina-support-group/2029-06-26/
CATEGORIES:Support Group
ATTACH;FMTTYPE=image/png:https://liferaftgroup.org/wp-content/uploads/2026/02/NC-Support-Group-Banner.png
END:VEVENT
BEGIN:VEVENT
DTSTART;TZID=America/New_York:20290828T140000
DTEND;TZID=America/New_York:20290828T140000
DTSTAMP:20260419T110339
CREATED:20260226T181800Z
LAST-MODIFIED:20260226T183012Z
UID:10001627-1882620000-1882620000@liferaftgroup.org
SUMMARY:Virtual North Carolina Patient Support Group
DESCRIPTION:North Carolina Patient Support Group \nZoom\, Last Tuesday of the Month – 2pm ET\nFebruary\, April\, June\, August\, October\, December \n \nIf you wish to attend\, please email Rachel LoCurto: rlocurto@liferaftgroup.org for the Zoom link for the meeting.
URL:https://liferaftgroup.org/event/north-carolina-support-group/2029-08-28/
CATEGORIES:Support Group
ATTACH;FMTTYPE=image/png:https://liferaftgroup.org/wp-content/uploads/2026/02/NC-Support-Group-Banner.png
END:VEVENT
BEGIN:VEVENT
DTSTART;TZID=America/New_York:20291030T140000
DTEND;TZID=America/New_York:20291030T140000
DTSTAMP:20260419T110339
CREATED:20260226T181800Z
LAST-MODIFIED:20260226T183012Z
UID:10001628-1888063200-1888063200@liferaftgroup.org
SUMMARY:Virtual North Carolina Patient Support Group
DESCRIPTION:North Carolina Patient Support Group \nZoom\, Last Tuesday of the Month – 2pm ET\nFebruary\, April\, June\, August\, October\, December \n \nIf you wish to attend\, please email Rachel LoCurto: rlocurto@liferaftgroup.org for the Zoom link for the meeting.
URL:https://liferaftgroup.org/event/north-carolina-support-group/2029-10-30/
CATEGORIES:Support Group
ATTACH;FMTTYPE=image/png:https://liferaftgroup.org/wp-content/uploads/2026/02/NC-Support-Group-Banner.png
END:VEVENT
BEGIN:VEVENT
DTSTART;TZID=America/New_York:20291225T140000
DTEND;TZID=America/New_York:20291225T140000
DTSTAMP:20260419T110339
CREATED:20260226T181800Z
LAST-MODIFIED:20260226T183012Z
UID:10001629-1892901600-1892901600@liferaftgroup.org
SUMMARY:Virtual North Carolina Patient Support Group
DESCRIPTION:North Carolina Patient Support Group \nZoom\, Last Tuesday of the Month – 2pm ET\nFebruary\, April\, June\, August\, October\, December \n \nIf you wish to attend\, please email Rachel LoCurto: rlocurto@liferaftgroup.org for the Zoom link for the meeting.
URL:https://liferaftgroup.org/event/north-carolina-support-group/2029-12-25/
CATEGORIES:Support Group
ATTACH;FMTTYPE=image/png:https://liferaftgroup.org/wp-content/uploads/2026/02/NC-Support-Group-Banner.png
END:VEVENT
BEGIN:VEVENT
DTSTART;TZID=America/New_York:20300226T140000
DTEND;TZID=America/New_York:20300226T140000
DTSTAMP:20260419T110339
CREATED:20260226T181800Z
LAST-MODIFIED:20260226T183012Z
UID:10001630-1898344800-1898344800@liferaftgroup.org
SUMMARY:Virtual North Carolina Patient Support Group
DESCRIPTION:North Carolina Patient Support Group \nZoom\, Last Tuesday of the Month – 2pm ET\nFebruary\, April\, June\, August\, October\, December \n \nIf you wish to attend\, please email Rachel LoCurto: rlocurto@liferaftgroup.org for the Zoom link for the meeting.
URL:https://liferaftgroup.org/event/north-carolina-support-group/2030-02-26/
CATEGORIES:Support Group
ATTACH;FMTTYPE=image/png:https://liferaftgroup.org/wp-content/uploads/2026/02/NC-Support-Group-Banner.png
END:VEVENT
BEGIN:VEVENT
DTSTART;TZID=America/New_York:20300430T140000
DTEND;TZID=America/New_York:20300430T140000
DTSTAMP:20260419T110339
CREATED:20260226T181800Z
LAST-MODIFIED:20260226T183012Z
UID:10001631-1903788000-1903788000@liferaftgroup.org
SUMMARY:Virtual North Carolina Patient Support Group
DESCRIPTION:North Carolina Patient Support Group \nZoom\, Last Tuesday of the Month – 2pm ET\nFebruary\, April\, June\, August\, October\, December \n \nIf you wish to attend\, please email Rachel LoCurto: rlocurto@liferaftgroup.org for the Zoom link for the meeting.
URL:https://liferaftgroup.org/event/north-carolina-support-group/2030-04-30/
CATEGORIES:Support Group
ATTACH;FMTTYPE=image/png:https://liferaftgroup.org/wp-content/uploads/2026/02/NC-Support-Group-Banner.png
END:VEVENT
BEGIN:VEVENT
DTSTART;TZID=America/New_York:20300625T140000
DTEND;TZID=America/New_York:20300625T140000
DTSTAMP:20260419T110339
CREATED:20260226T181800Z
LAST-MODIFIED:20260226T183012Z
UID:10001632-1908626400-1908626400@liferaftgroup.org
SUMMARY:Virtual North Carolina Patient Support Group
DESCRIPTION:North Carolina Patient Support Group \nZoom\, Last Tuesday of the Month – 2pm ET\nFebruary\, April\, June\, August\, October\, December \n \nIf you wish to attend\, please email Rachel LoCurto: rlocurto@liferaftgroup.org for the Zoom link for the meeting.
URL:https://liferaftgroup.org/event/north-carolina-support-group/2030-06-25/
CATEGORIES:Support Group
ATTACH;FMTTYPE=image/png:https://liferaftgroup.org/wp-content/uploads/2026/02/NC-Support-Group-Banner.png
END:VEVENT
BEGIN:VEVENT
DTSTART;TZID=America/New_York:20300827T140000
DTEND;TZID=America/New_York:20300827T140000
DTSTAMP:20260419T110339
CREATED:20260226T181800Z
LAST-MODIFIED:20260226T183012Z
UID:10001633-1914069600-1914069600@liferaftgroup.org
SUMMARY:Virtual North Carolina Patient Support Group
DESCRIPTION:North Carolina Patient Support Group \nZoom\, Last Tuesday of the Month – 2pm ET\nFebruary\, April\, June\, August\, October\, December \n \nIf you wish to attend\, please email Rachel LoCurto: rlocurto@liferaftgroup.org for the Zoom link for the meeting.
URL:https://liferaftgroup.org/event/north-carolina-support-group/2030-08-27/
CATEGORIES:Support Group
ATTACH;FMTTYPE=image/png:https://liferaftgroup.org/wp-content/uploads/2026/02/NC-Support-Group-Banner.png
END:VEVENT
BEGIN:VEVENT
DTSTART;TZID=America/New_York:20301029T140000
DTEND;TZID=America/New_York:20301029T140000
DTSTAMP:20260419T110339
CREATED:20260226T181800Z
LAST-MODIFIED:20260226T183012Z
UID:10001634-1919512800-1919512800@liferaftgroup.org
SUMMARY:Virtual North Carolina Patient Support Group
DESCRIPTION:North Carolina Patient Support Group \nZoom\, Last Tuesday of the Month – 2pm ET\nFebruary\, April\, June\, August\, October\, December \n \nIf you wish to attend\, please email Rachel LoCurto: rlocurto@liferaftgroup.org for the Zoom link for the meeting.
URL:https://liferaftgroup.org/event/north-carolina-support-group/2030-10-29/
CATEGORIES:Support Group
ATTACH;FMTTYPE=image/png:https://liferaftgroup.org/wp-content/uploads/2026/02/NC-Support-Group-Banner.png
END:VEVENT
BEGIN:VEVENT
DTSTART;TZID=America/New_York:20301231T140000
DTEND;TZID=America/New_York:20301231T140000
DTSTAMP:20260419T110339
CREATED:20260226T181800Z
LAST-MODIFIED:20260226T183012Z
UID:10001635-1924956000-1924956000@liferaftgroup.org
SUMMARY:Virtual North Carolina Patient Support Group
DESCRIPTION:North Carolina Patient Support Group \nZoom\, Last Tuesday of the Month – 2pm ET\nFebruary\, April\, June\, August\, October\, December \n \nIf you wish to attend\, please email Rachel LoCurto: rlocurto@liferaftgroup.org for the Zoom link for the meeting.
URL:https://liferaftgroup.org/event/north-carolina-support-group/2030-12-31/
CATEGORIES:Support Group
ATTACH;FMTTYPE=image/png:https://liferaftgroup.org/wp-content/uploads/2026/02/NC-Support-Group-Banner.png
END:VEVENT
BEGIN:VEVENT
DTSTART;TZID=America/New_York:20310225T140000
DTEND;TZID=America/New_York:20310225T140000
DTSTAMP:20260419T110339
CREATED:20260226T181800Z
LAST-MODIFIED:20260226T183012Z
UID:10001636-1929794400-1929794400@liferaftgroup.org
SUMMARY:Virtual North Carolina Patient Support Group
DESCRIPTION:North Carolina Patient Support Group \nZoom\, Last Tuesday of the Month – 2pm ET\nFebruary\, April\, June\, August\, October\, December \n \nIf you wish to attend\, please email Rachel LoCurto: rlocurto@liferaftgroup.org for the Zoom link for the meeting.
URL:https://liferaftgroup.org/event/north-carolina-support-group/2031-02-25/
CATEGORIES:Support Group
ATTACH;FMTTYPE=image/png:https://liferaftgroup.org/wp-content/uploads/2026/02/NC-Support-Group-Banner.png
END:VEVENT
END:VCALENDAR