BEGIN:VCALENDAR
VERSION:2.0
PRODID:-//The Life Raft Group - ECPv6.15.20//NONSGML v1.0//EN
CALSCALE:GREGORIAN
METHOD:PUBLISH
X-ORIGINAL-URL:https://liferaftgroup.org
X-WR-CALDESC:Events for The Life Raft Group
REFRESH-INTERVAL;VALUE=DURATION:PT1H
X-Robots-Tag:noindex
X-PUBLISHED-TTL:PT1H
BEGIN:VTIMEZONE
TZID:America/New_York
BEGIN:DAYLIGHT
TZOFFSETFROM:-0500
TZOFFSETTO:-0400
TZNAME:EDT
DTSTART:20240310T070000
END:DAYLIGHT
BEGIN:STANDARD
TZOFFSETFROM:-0400
TZOFFSETTO:-0500
TZNAME:EST
DTSTART:20241103T060000
END:STANDARD
BEGIN:DAYLIGHT
TZOFFSETFROM:-0500
TZOFFSETTO:-0400
TZNAME:EDT
DTSTART:20250309T070000
END:DAYLIGHT
BEGIN:STANDARD
TZOFFSETFROM:-0400
TZOFFSETTO:-0500
TZNAME:EST
DTSTART:20251102T060000
END:STANDARD
BEGIN:DAYLIGHT
TZOFFSETFROM:-0500
TZOFFSETTO:-0400
TZNAME:EDT
DTSTART:20260308T070000
END:DAYLIGHT
BEGIN:STANDARD
TZOFFSETFROM:-0400
TZOFFSETTO:-0500
TZNAME:EST
DTSTART:20261101T060000
END:STANDARD
END:VTIMEZONE
BEGIN:VEVENT
DTSTART;TZID=America/New_York:20250506T140000
DTEND;TZID=America/New_York:20250506T140000
DTSTAMP:20260421T053815
CREATED:20250402T184138Z
LAST-MODIFIED:20250402T184138Z
UID:10000817-1746540000-1746540000@liferaftgroup.org
SUMMARY:The Benefits of Palliative Care
DESCRIPTION:The Life Raft Group is partnering with Dr. Grant Smith of Stanford Health Care to present “Live Your Best Life – The Benefits of Palliative Care” on May 6th at 2PM ET. During this virtual presentation\, Dr. Smith will share ways to live your best life using a holistic\, person-centered approach. During this workshop\, Dr. Smith will talk about physical symptoms as well as emotional and spiritual well-being. You’ll also learn about the medical specialty\, called palliative care\, and how it can give you an extra level of support and improve your quality of life. A question and answer session will follow the presentation. \nThese webinars are for informational purposes only and should not replace professional medical advice. Always consult your healthcare provider before making any treatment or lifestyle changes. If you have questions or comments\, please reach out to srothschild@liferaftgroup.org. \nREGISTERAbout Our Presenter\n \nDr. Grant Smith\nCare Physician & Clinical Associate Professor of Medicine \nGrant Smith\, MD is a palliative care physician and Clinical Associate Professor of Medicine at the Stanford School of Medicine. He is the medical director of the Stanford Palliative Care Community Partnerships Team. He received his medical degree from Harvard Medical School and completed his residency in internal medicine and fellowship in hospice and palliative medicine at the University of California\, San Francisco. As part of the Stanford faculty\, he is an attending physician on the palliative care inpatient service and in the outpatient palliative care clinic in Palo Alto. \nThank You to Our Sponsors!
URL:https://liferaftgroup.org/event/benefits-of-palliative-care/
CATEGORIES:Education,Webcast
ORGANIZER;CN="Sara Rothschild":MAILTO:srothschild@liferaftgroup.org
END:VEVENT
BEGIN:VEVENT
DTSTART;TZID=America/New_York:20250506T150000
DTEND;TZID=America/New_York:20250506T150000
DTSTAMP:20260421T053815
CREATED:20250402T184153Z
LAST-MODIFIED:20250403T201911Z
UID:10000818-1746543600-1746543600@liferaftgroup.org
SUMMARY:Los beneficios de los cuidados paliativos
DESCRIPTION:The Life Raft Group\, junto con Olivia Tigre-Nerimora de Stanford Health Care\, presentará el webinar: “Vive tu vida al máximo: Los beneficios de los cuidados paliativos”\, que se llevará a cabo el 6 de mayo a las 3 p. m. (hora del este). En esta sesión virtual\, la Sra. Tigre-Nerimora compartirá estrategias para vivir plenamente con un enfoque holístico y personalizado\, centrado en el bienestar integral. Además\, abordará aspectos clave como el manejo de síntomas físicos\, el bienestar emocional y el cuidado espiritual. También aprenderá sobre los cuidados paliativos y cómo esta especialidad médica puede brindarle apoyo para mejorar su calidad de vida. Al finalizar la presentación\, habrá una sesión de preguntas y respuestas.  \nEstos webinars son solo con fines informativos y no deben reemplazar el consejo médico profesional. Siempre consulte a su proveedor de atención médica antes de realizar cualquier cambio en su tratamiento o estilo de vida. Si tiene preguntas o comentarios\, por favor comuníquese con srothschild@liferaftgroup.org. \nREGISTRATEAcerca de Nuestra Presentadora\n \nOlivia Tigre-Nerimora\, MHA\nGerente de Proyectos\, Centro de Excelencia en Cuidados Paliativos \nOlivia Tigre Nerimora se desempeña actualmente como Gerente de Proyectos para el Centro de Excelencia en Cuidados Paliativos\, Olivia supervisa proyectos destinados a promover la educación y la concientización sobre los cuidados paliativos especializados. Sus esfuerzos enfatizan el aumento de la participación comunitaria\, particularmente entre las poblacionbes mas vulnerasbles\, para garantizar el acceso equitativo y la comprensión de los servicios de cuidados paliativos. \nGracias a Nuestros Patrocinadores!
URL:https://liferaftgroup.org/event/beneficios-de-los-cuidados-paliativos/
CATEGORIES:Education,Webcast
ORGANIZER;CN="Sara Rothschild":MAILTO:srothschild@liferaftgroup.org
END:VEVENT
BEGIN:VEVENT
DTSTART;TZID=America/New_York:20250507T130000
DTEND;TZID=America/New_York:20250507T140000
DTSTAMP:20260421T053815
CREATED:20240528T163612Z
LAST-MODIFIED:20260226T163718Z
UID:10001091-1746622800-1746626400@liferaftgroup.org
SUMMARY:Virtual GIST Caregiver Support Group
DESCRIPTION:Monthly Virtual Support Group for GIST Caregivers\nHeld on the first Wednesday of the month \nLRG hosts a monthly virtual support group for the caregivers. We will share our stories\, if you are comfortable\, and speak freely about the new fears and anxieties we might be feeling during this journey as a caregiver. The group will be a safe space not only to feel supported by your fellow caregivers\, but also a place to share our own coping mechanisms\, concerns\, successes and trials. All information shared will be kept confidential. \nContact Rachel LoCurto at rlocurto@liferaftgroup.org for more information and to join this meeting. \nAbout the Group Leader:\nMarlene Nei\, GIST Caregiver\nAs an active member of The Life Raft Group\, Marlene advocates for the needs of the caregiver community because she feels they are an underrepresented group. It is her mission to advocate for the entire GIST community making sure they are equipped with the appropriate resources on their GIST journey.
URL:https://liferaftgroup.org/event/virtual-gist-caregiver-support-group-2023-2/2025-05-07/
CATEGORIES:Support Group
ATTACH;FMTTYPE=image/jpeg:https://liferaftgroup.org/wp-content/uploads/2023/05/caregiver-sg-2023.jpg
ORGANIZER;CN="Rachel LoCurto":MAILTO:rlocurto@liferaftgroup.org
END:VEVENT
END:VCALENDAR