BEGIN:VCALENDAR
VERSION:2.0
PRODID:-//The Life Raft Group - ECPv6.15.20//NONSGML v1.0//EN
CALSCALE:GREGORIAN
METHOD:PUBLISH
X-ORIGINAL-URL:https://liferaftgroup.org
X-WR-CALDESC:Events for The Life Raft Group
REFRESH-INTERVAL;VALUE=DURATION:PT1H
X-Robots-Tag:noindex
X-PUBLISHED-TTL:PT1H
BEGIN:VTIMEZONE
TZID:America/New_York
BEGIN:DAYLIGHT
TZOFFSETFROM:-0500
TZOFFSETTO:-0400
TZNAME:EDT
DTSTART:20240310T070000
END:DAYLIGHT
BEGIN:STANDARD
TZOFFSETFROM:-0400
TZOFFSETTO:-0500
TZNAME:EST
DTSTART:20241103T060000
END:STANDARD
BEGIN:DAYLIGHT
TZOFFSETFROM:-0500
TZOFFSETTO:-0400
TZNAME:EDT
DTSTART:20250309T070000
END:DAYLIGHT
BEGIN:STANDARD
TZOFFSETFROM:-0400
TZOFFSETTO:-0500
TZNAME:EST
DTSTART:20251102T060000
END:STANDARD
BEGIN:DAYLIGHT
TZOFFSETFROM:-0500
TZOFFSETTO:-0400
TZNAME:EDT
DTSTART:20260308T070000
END:DAYLIGHT
BEGIN:STANDARD
TZOFFSETFROM:-0400
TZOFFSETTO:-0500
TZNAME:EST
DTSTART:20261101T060000
END:STANDARD
END:VTIMEZONE
BEGIN:VEVENT
DTSTART;TZID=America/New_York:20250512T180000
DTEND;TZID=America/New_York:20250512T180000
DTSTAMP:20260421T044554
CREATED:20240528T163645Z
LAST-MODIFIED:20260226T165312Z
UID:10001246-1747072800-1747072800@liferaftgroup.org
SUMMARY:Virtual Florida Support Group
DESCRIPTION:Florida Support Group\nZoom\, 2nd Monday of the Month – 6pm ET\nOur moderator is a fellow GISTER/LRG Member from Florida diagnosed with GIST in late 2016.\nIf you wish to attend\, please email Rachel LoCurto: rlocurto@liferaftgroup.org for the Zoom link for the meeting.
URL:https://liferaftgroup.org/event/virtual-florida-support-group-2-2-2/2025-05-12/
CATEGORIES:Support Group
ATTACH;FMTTYPE=image/jpeg:https://liferaftgroup.org/wp-content/uploads/2022/09/florida-support-group.jpg
ORGANIZER;CN="Rachel LoCurto":MAILTO:rlocurto@liferaftgroup.org
END:VEVENT
BEGIN:VEVENT
DTSTART;TZID=America/New_York:20250513T120000
DTEND;TZID=America/New_York:20250513T120000
DTSTAMP:20260421T044554
CREATED:20250331T190351Z
LAST-MODIFIED:20250402T180059Z
UID:10000816-1747137600-1747137600@liferaftgroup.org
SUMMARY:Holistic Approaches to Healing
DESCRIPTION:The Life Raft Group is partnering with Certified Wellness Coach & Patient Advocate Carolina Williams to present\, “Holistic Approaches to Healing in Harmony”\, on May 13th at 12PM ET. This virtual session will blend mindfulness practices with vibrational living to support cancer patients and their caregivers in navigating the emotional and energetic challenges of healing. Through guided meditations\, breathwork\, and energy-awareness techniques\, participants will learn how to cultivate inner peace\, resilience\, and a healing mindset. Discover how vibrational frequencies influence well-being\, how to shift energy for emotional balance\, and how to create a supportive environment that fosters deep healing for both patients and caregivers. \nThese webinars are for informational purposes only and should not replace professional medical advice. Always consult your healthcare provider before making any treatment or lifestyle changes. If you have questions or comments\, please reach out to srothschild@liferaftgroup.org. \nREGISTERAbout Our Presenter\n \nCarolina Williams\nCertified Wellness Coach & Patient Advocate \nAfter facing Gastrointestinal Stromal Tumor (GIST)\, Carolina experienced an instantaneous remission—a profound moment that reinforced the power of mindfulness\, energy healing\, and vibrational living. While her healing journey included deep spiritual work\, meditation\, and energy alignment\, she also acknowledges the role of Gleevec\, the targeted therapy that supported her recovery. This integrative approach—combining science and vibrational medicine—became the foundation of her work. \nNow a certified Wellness Coach\, Reiki Master\, and Bio-Well Energy Field Practitioner\, Carolina is passionate about guiding cancer patients and caregivers toward inner peace\, resilience\, and healing. She teaches practical tools that support both emotional and physical well-being\, helping others navigate their journeys with greater strength\, hope\, and balance. \nThank You to Our Sponsors!
URL:https://liferaftgroup.org/event/holistic-approaches-to-healing/
CATEGORIES:Education,Webcast
ORGANIZER;CN="Sara Rothschild":MAILTO:srothschild@liferaftgroup.org
END:VEVENT
BEGIN:VEVENT
DTSTART;TZID=America/New_York:20250517T140000
DTEND;TZID=America/New_York:20250517T170000
DTSTAMP:20260421T044554
CREATED:20250428T191656Z
LAST-MODIFIED:20250501T145145Z
UID:10000819-1747490400-1747501200@liferaftgroup.org
SUMMARY:John Poss Memorial Fund Event - Gathering in the Park
DESCRIPTION:REGISTER\nBenefit for the John Poss Memorial Fund of The Life Raft Group \n\nThe John Poss Memorial Fund honors the incredible legacy of John Poss\, whose determination and advocacy helped revolutionize treatment for GIST patients. After being diagnosed with stage 4 GIST in 2000\, John fought for access to a groundbreaking clinical trial\, ultimately gaining 24 more years with his family and dedicating his life to patient support through The Life Raft Group. His impact continues to inspire and drive progress in GIST research and advocacy. \nJoin us in celebrating John’s legacy at Picnic in the Park\, a special fundraiser supporting the John Poss Memorial Fund. Your participation and generosity will help fund research\, fuel clinical trials\, and provide vital resources to GIST patients and caregivers. Let’s come together to honor John’s spirit and make a lasting difference—reserve your spot today! \nThis event is the second stop on Jerry Call’s GIST On the Road tour. Jerry\, LRG’s Data Analyst for more than 20 years\, is motorcycling across the country on a tour created to connect with patients & caregivers\, medical professionals and donors to raise awareness of GIST and raise funds for GIST research and support services. You can read more about Jerry’s story here. \nQuestions about the event? Contact bmorello@liferaftgroup.org
URL:https://liferaftgroup.org/event/gathering-in-the-park/
LOCATION:Pavilion #5\, 164 Landa Park Dr.\, New Braunfels\, TX\, 164 Landa Park Dr.\, New Braunfels\, TX\, 78130\, United States
CATEGORIES:Events,Fundraising
ORGANIZER;CN="Brian Morello":MAILTO:bmorello@liferaftgroup.org
END:VEVENT
END:VCALENDAR