BEGIN:VCALENDAR
VERSION:2.0
PRODID:-//The Life Raft Group - ECPv6.15.20//NONSGML v1.0//EN
CALSCALE:GREGORIAN
METHOD:PUBLISH
X-ORIGINAL-URL:https://liferaftgroup.org
X-WR-CALDESC:Events for The Life Raft Group
REFRESH-INTERVAL;VALUE=DURATION:PT1H
X-Robots-Tag:noindex
X-PUBLISHED-TTL:PT1H
BEGIN:VTIMEZONE
TZID:America/New_York
BEGIN:DAYLIGHT
TZOFFSETFROM:-0500
TZOFFSETTO:-0400
TZNAME:EDT
DTSTART:20210314T070000
END:DAYLIGHT
BEGIN:STANDARD
TZOFFSETFROM:-0400
TZOFFSETTO:-0500
TZNAME:EST
DTSTART:20211107T060000
END:STANDARD
BEGIN:DAYLIGHT
TZOFFSETFROM:-0500
TZOFFSETTO:-0400
TZNAME:EDT
DTSTART:20220313T070000
END:DAYLIGHT
BEGIN:STANDARD
TZOFFSETFROM:-0400
TZOFFSETTO:-0500
TZNAME:EST
DTSTART:20221106T060000
END:STANDARD
BEGIN:DAYLIGHT
TZOFFSETFROM:-0500
TZOFFSETTO:-0400
TZNAME:EDT
DTSTART:20230312T070000
END:DAYLIGHT
BEGIN:STANDARD
TZOFFSETFROM:-0400
TZOFFSETTO:-0500
TZNAME:EST
DTSTART:20231105T060000
END:STANDARD
END:VTIMEZONE
BEGIN:VEVENT
DTSTART;VALUE=DATE:20220914
DTEND;VALUE=DATE:20220917
DTSTAMP:20260419T125746
CREATED:20220407T133211Z
LAST-MODIFIED:20220407T133211Z
UID:10000230-1663113600-1663372799@liferaftgroup.org
SUMMARY:The NIH Pediatric and Wildtype GIST Clinic
DESCRIPTION:The Pediatric and Wildtype GIST clinic at the National Institutes of Health (NIH) is a collaborative effort between clinicians\, research scientists and advocates\, who share the goal of helping young patients with Gastrointestinal Stromal Tumor. \nPending the status of the global COVID-19 pandemic\, the 2022 GIST Clinic is scheduled for September 14-16\, 2022. Now accepting applications. \nContact: CLINICAL RESEARCH NURSE: BJ Thomas\, RN – ncipediatricgist@mail.nih.gov \nREGISTER
URL:https://liferaftgroup.org/event/the-nih-pediatric-and-wildtype-gist-clinic/
LOCATION:NIH Pediatric and Wildtype GIST Clinic\, Building10-CRC\, Room 1-3750\, Bethesda\, 20892
ATTACH;FMTTYPE=image/png:https://liferaftgroup.org/wp-content/uploads/2020/02/nci-center-for-cancer-research.png
END:VEVENT
END:VCALENDAR