BEGIN:VCALENDAR
VERSION:2.0
PRODID:-//The Life Raft Group - ECPv6.15.20//NONSGML v1.0//EN
CALSCALE:GREGORIAN
METHOD:PUBLISH
X-ORIGINAL-URL:https://liferaftgroup.org
X-WR-CALDESC:Events for The Life Raft Group
REFRESH-INTERVAL;VALUE=DURATION:PT1H
X-Robots-Tag:noindex
X-PUBLISHED-TTL:PT1H
BEGIN:VTIMEZONE
TZID:America/New_York
BEGIN:DAYLIGHT
TZOFFSETFROM:-0500
TZOFFSETTO:-0400
TZNAME:EDT
DTSTART:20210314T070000
END:DAYLIGHT
BEGIN:STANDARD
TZOFFSETFROM:-0400
TZOFFSETTO:-0500
TZNAME:EST
DTSTART:20211107T060000
END:STANDARD
BEGIN:DAYLIGHT
TZOFFSETFROM:-0500
TZOFFSETTO:-0400
TZNAME:EDT
DTSTART:20220313T070000
END:DAYLIGHT
BEGIN:STANDARD
TZOFFSETFROM:-0400
TZOFFSETTO:-0500
TZNAME:EST
DTSTART:20221106T060000
END:STANDARD
BEGIN:DAYLIGHT
TZOFFSETFROM:-0500
TZOFFSETTO:-0400
TZNAME:EDT
DTSTART:20230312T070000
END:DAYLIGHT
BEGIN:STANDARD
TZOFFSETFROM:-0400
TZOFFSETTO:-0500
TZNAME:EST
DTSTART:20231105T060000
END:STANDARD
END:VTIMEZONE
BEGIN:VEVENT
DTSTART;TZID=America/New_York:20220409T080000
DTEND;TZID=America/New_York:20220409T080000
DTSTAMP:20260419T153445
CREATED:20210617T133953Z
LAST-MODIFIED:20220127T204357Z
UID:10000144-1649491200-1649491200@liferaftgroup.org
SUMMARY:GIST DO IT Walk - Verona\, NJ
DESCRIPTION:Join GISTers\, family & friends\, and the LRG Staff for this beautiful walk around Verona Park as we walk in memory of GISTer Ted Wolf and to raise funds for #GISTresearch! Register today. $35 registration fee includes a free GIST DO IT t-shirt. Meet at the park at 8am. \nIf you can’t be present for the walk\, you can donate to #GISTresearch with the link below also. \nREGISTERInterested in Sponsorship Opportunities?\nContact Jess Nowak\, jnowak@liferaftgroup.org\nEvent Sponsor – $25\,000 \nCompany logo displayed on event signage\, on the LRG website\, & in the LRG newsletter\nCompany logo displayed on Step & Repeat\nThank you from LRG Senior Vice President at event\nAbility to place item/flyer (provided by sponsor) in Swag Bag\nTable at event\n5 registrations\, 5 t-shirts\, and 5 masks \nPlatinum Sponsor – $20\,000 \nCompany logo displayed on event signage\, on the LRG website\, & in the LRG newsletter\nThank you from LRG Senior Vice President at event\nAbility to place item/flyer (provided by sponsor) in Swag Bag\nTable at event\n4 registrations\, 4 t-shirts\, and 4 masks \nGold Sponsor – $15\,000 \nCompany logo displayed on event signage\, on the LRG website\, & in the LRG newsletter\nThank you from LRG Senior Vice President at event\nAbility to place item/flyer (provided by sponsor) in Swag Bag\nTable at event\n3 registrations\, 3 t-shirts\, and 3 masks \nSilver Sponsor – $10\,000 \nCompany name displayed on event signage\, on the LRG website\, & in theLRG newsletter\nThank you from LRG Senior Vice President at event\nAbility to place item/flyer (provided by sponsor) in Swag Bag\nTable at event\n2 registrations\, 2 t-shirts\, and 2 masks \nBronze Sponsor – $5\,000 \nCompany name displayed on event signage\, on the LRG website\, & in the LRG newsletter\nThank you from LRG Senior Vice President at event\n1 registrations\, 1 t-shirts\, and 1 masks
URL:https://liferaftgroup.org/event/gist-do-it-walk-nj-3/
LOCATION:Verona Park\, Verona\, NJ\, Verona\, NJ
ATTACH;FMTTYPE=image/jpeg:https://liferaftgroup.org/wp-content/uploads/2021/06/gist-do-it-NJ-no-date.jpg
ORGANIZER;CN="Diana Nieves":MAILTO:dnieves@liferaftgroup.org
END:VEVENT
END:VCALENDAR